Workbook
Name chart: COVER!$C$2:$H$22
Name chart: #REF!
Name chart: #REF!
Name FULL: FRINGE!$C$31
Name MED: #REF!
Name OTPS: #REF!
Name PART: FRINGE!$C$53
Name sum: 'CONTRACTED-PROF.'!$C$4:$G$29
Name sum: COVER!$C$2:$H$22
Name sum: 'OTHER OTPS'!$A$2:$A$39
Name sum: #REF!

Sheet Instructions
B2: Budget Item Instructions
C4: Total Salary: | D4: Indicate the total cost of all budgeted employees (full-time, generally 35 hours or more per week; part-time, generally less than 35 hours per week) in columns B-F. All budgeted employees must meet the staffing structure and minimum salary expectations outlined in the RFP.
C6: Total Fringe: | D6: Indicate total cost of fringe benefits associated with your employees, including percentages. Fringe benefits must include FICA, Workers Compensation, Disability, Unemployment Insurance, and may also include disability, pension, life insurance, and medical coverage as per your policies. Use additional lines to add any other applicable fringe categories. Fringe over 36% requires additional justification and should be included in a narrative.
C8: Contracted & Professional Services: | D8: Indicate cost associated with independent entities with professional or technical skills retained to perform specific tasks or complete projects related to the program that cannot be accomplished by regular staff. This category can include, but not limited to, accounting, legal, auditor, professional development, and other consultant fees. Use additional lines to add any other services. The items shown in the Contracted-Prof tab are examples.
C10: Facilities | D10: Indicate facility costs specific to this proposal.
C12: Other OTPS: | D12: Includes other non-personnel related expenses such as supplies that are not lasting or permanent in nature, such as program and/or maintenance supplies. This category also includes, postage, printing, publications, subscriptions, or purchase of equipment that is durable or permanent. Use additional lines to add any other categories. The items shown in the Other OTPS tab are examples. The items shown in the Other OTPS tab are examples. Refer to Section VII. Budget Management, of the RFP for additional guidance.
C14: Indirect Costs: | D14: Includes expenses of doing business that are not directly tied to a particular project function or activity. Indirect cost rates distribute those costs among all the work that the nonprofit engages in. Note: Pursuant to the New York City Health and Human Services Cost Policies and Procedures Manual (“Cost Manual”), human services organizations may claim an indirect rate that has been accepted by the City of New York and is reflected in PASSPort. Rates are established at the organizational level. For the purpose of responding to this solicitation, proposers may budget up to their Accepted Indirect Cost Rate or use the10% de minimis Indirect Cost rate. For information on how the Cost Manual classifies indirect costs, see:
D15: Cost Manual
D17: Please see ACS Fiscal Manual for guidance on allowable/unallowable costs
D18: ACS Fiscal Manual

Sheet COVER
B2: ADMINISTRATION FOR CHILDREN'S SERVICES
B3: ANNUAL ACS BUDGET TEMPLATE
B4: SUMMARY PAGE
B6: CONTRACT TYPE: | D6: Alternative to Placement and Aftercare Services
B7: AGENCY NAME:
B8: AGENCY ADDRESS:
B9: BUDGET PERIOD: | D9: July 1, 2027 to June 30, 2028 (12 Months)
B10: TAX ID NO:
B12: LINE | C12: CATEGORY | D12: ACS PROGRAM BUDGET AMOUNT | E12: PERCENTAGES | G12: COMMENTS
B13: 1 | C13: SALARY/WAGES | D13: =SALARY!G57 -> 0
B14: 2 | C14: FRINGE BENEFITS | D14: =FRINGE!D54 -> 0 | E14: =IFERROR(+D14/D13, "") | F14: =(line 2/line 1) | G14: Over 36% requires justification
B15: 3 | C15: PS SUBTOTAL | D15: =D13+D14 -> 0 | E15: =IFERROR(+D15/D20, "") | F15: =(line 3/line 8)
B16: 4 | C16: CONTRACTED/PROF SERVICE | D16: ='CONTRACTED-PROF.'!G29 -> 0
B17: 5 | C17: FACILITIES | D17: =FACILITIES!C29 -> 0
B18: 6 | C18: OTHER OTPS | D18: =+'OTHER OTPS'!B65 -> 0
B19: 7 | C19: OTPS SUBTOTAL | D19: =D18+D16+D17 -> 0
B20: 8 | C20: PS & OTPS SUBTOTAL | D20: =D15+D19 -> 0
B21: 9* | C21: INDIRECT | G21: Please input Indirect rate amount in cell D21 and % in cell E21. See also note below.
B22: 10 | C22: GRAND TOTAL | D22: =D20+D21 -> 0
B25: *For details on how to calculate the indirect rate (including definitions of indirect cost and direct cost base), please refer to the health and Human Services Cost Policies and Procedures Manual. Note: Pursuant to the New York City Health and Human Services Cost Policies and Procedures Manual (“Cost Manual”), human services organizations may claim an indirect rate that has been accepted by the City of New York and is reflected in PASSPort. Rates are established at the organizational level. Organizations may budget up to their Accepted Indirect Cost Rate or use 10% de minimis Indirect Cost Rate.
B26: Cost Manual
B27: Agencies must allocate their costs to the appropriate ACS and non-ACS programs using a fair and accurate allocation methodology. The allocation methodology must have a rational basis, e.g., square footage for space costs, full time equivalent (FTE) or working hours for personnel costs, etc. The method must be developed in accordance with generally acceptable accounting principles and applicable laws, regulations, and policies.
E31: Agency Fiscal Director

Sheet SALARY
A2: ADMINISTRATION FOR CHILDREN'S SERVICES
A3: ANNUAL ACS BUDGET TEMPLATE
A4: SALARY SUMMARY BY TITLE
A6: AGENCY NAME: | B6: =COVER!D7 -> 0
A7: ADDRESS: | B7: =COVER!D8 -> 0
A8: BUDGET PERIOD: | B8: July 1, 2027 to June 30, 2028 (12 Months)
A11: SITE | B11: TITLE | C11: NUMBER OF INDIVIDUALS IN TITLE | D11: HOURS PER WEEK TO PROGRAM | E11: FULL TIME EQUIVALENT POSITION (i.e.: 0.5 FTE or 1 FTE) | F11: ANNUAL SALARY | G11: TOTAL BUDGETED AMOUNT
A12: FULL TIME | G12: =C12*E12*F12 -> 0
G13: =C13*E13*F13 -> 0
G14: =C14*E14*F14 -> 0
G15: =C15*E15*F15 -> 0
G16: =C16*E16*F16 -> 0
G17: =C17*E17*F17 -> 0
G18: =C18*E18*F18 -> 0
G19: =C19*E19*F19 -> 0
G20: =C20*E20*F20 -> 0
G21: =C21*E21*F21 -> 0
G22: =C22*E22*F22 -> 0
G23: =C23*E23*F23 -> 0
G24: =C24*E24*F24 -> 0
... G37: =C37*E37*F37 -> 0
B38: SUB TOTAL | C38: =SUM(C12:C37) -> 0 | D38: =SUM(D12:D37) -> 0 | E38: =SUM(E12:E37) -> 0 | F38: =SUM(F12:F37) -> 0 | G38: =SUM(G12:G37) -> 0
B39: TITLE | C39: NUMBER OF INDIVIDUALS IN TITLE | D39: HOURS PER WEEK TO PROGRAM | E39: NUMBER OF WEEKS | F39: HOURLY RATE | G39: TOTAL BUDGETED AMOUNT
A40: PART TIME | G40: =F40*E40*D40*C40 -> 0
G41: =F41*E41*D41*C41 -> 0
G42: =F42*E42*D42*C42 -> 0
G43: =F43*E43*D43*C43 -> 0
G44: =F44*E44*D44*C44 -> 0
G45: =F45*E45*D45*C45 -> 0
G46: =F46*E46*D46*C46 -> 0
G47: =F47*E47*D47*C47 -> 0
G48: =F48*E48*D48*C48 -> 0
G49: =F49*E49*D49*C49 -> 0
G50: =F50*E50*D50*C50 -> 0
G51: =F51*E51*D51*C51 -> 0
G52: =F52*E52*D52*C52 -> 0
... G55: =F55*E55*D55*C55 -> 0
B56: SUB TOTAL | C56: =SUM(C40:C55) -> 0 | D56: =SUM(D40:D55) -> 0 | G56: =SUM(G40:G55) -> 0
A57: TOTAL | C57: =+C56+C38 -> 0 | D57: =+D56+D38 -> 0 | G57: =+G38+G56 -> 0
A59: Please list all titles that your budget will fund. List the hours per week each title is to dedicate to the program; this listing is per title, not a sum of employees. For instance, if a site employs two part-time Medical Assistants, the number of individuals in the title would read 2, and the Hours Per Week to Program would read 35.
...

Sheet FRINGE
A2: ADMINISTRATION FOR CHILDREN'S SERVICES
A3: ANNUAL ACS BUDGET TEMPLATE
A4: FRINGE
A6: AGENCY NAME: | B6: =COVER!D7 -> 0
A7: ADDRESS: | B7: =COVER!D8 -> 0
A8: BUDGET PERIOD: | B8: July 1, 2027 to June 30, 2028 (12 Months)
A11: SITE NAME AND FRINGE DESCRIPTION | B11: FRINGE RATE | C11: TOTAL SALARY | D11: TOTAL FRINGE
A12: SITE NAME:
A13: Full Time
A14: FICA
A15: WORKER'S COMPENSATION
A16: DISABILITY INSURANCE - SHORT TERM
A17: UNEMPLOYMENT INSURANCE
A18: PENSION / RETIREMENT
A19: LONG-TERM DISABILITY
A20: HEALTH INSURANCE
A21: MCTM-TAX
A22: OTHER
A31: Total - Full Time | B31: =SUM(B14:B30) -> 0 | C31: =SALARY!G38 -> 0 | D31: =SUM(D14:D30) -> 0
A32: Part Time
A33: FICA
A34: WORKER'S COMPENSATION
A35: DISABILITY INSURANCE - SHORT TERM
A36: UNEMPLOYMENT INSURANCE
A37: PENSION / RETIREMENT
A38: LONG-TERM DISABILITY
A39: HEALTH INSURANCE
A40: MCTM-TAX
A41: OTHER
A53: Total - Part time (if applicable) | B53: =SUM(B33:B52) -> 0 | C53: =SALARY!G56 -> 0 | D53: =SUM(D33:D52) -> 0
A54: TOTAL - FRINGE BENEFITS | D54: =D53+D31 -> 0
A56: If fringe benefits are higher than 36%, please ensure the budget narrative includes additional detailed justification.
A58: Proposers must allocate their costs to the appropriate ACS and non-ACS programs using a fair and accurate allocation methodology. The allocation methodology may be based on expense type, e.g., full time equivalent (FTE), or working hours for personnel costs. The method must be developed in accordance with generally acceptable accounting principles and applicable laws, regulations, and policies.

Sheet CONTRACTED-PROF.
A2: ADMINISTRATION FOR CHILDREN'S SERVICES
A3: ANNUAL ACS BUDGET TEMPLATE
A4: CONTRACTED AND PROFESSIONAL SERVICES
A6: AGENCY NAME: | B6: =COVER!D7 -> 0
A7: ADDRESS: | B7: =COVER!D8 -> 0
A8: BUDGET PERIOD: | B8: July 1, 2027 to June 30, 2028 (12 Months)
A11: SITE | B11: CONSULTANT OR PROFESSIONAL | C11: TYPE OF SERVICE PROVIDED | D11: NAME | E11: TOTAL NUMBER OF HOURS | F11: AMOUNT PER HOUR | G11: TOTAL BUDGETED AMOUNT
C12: Accounting Costs | G12: =F12*E12 -> 0
C13: Legal Costs | G13: =F13*E13 -> 0
C14: Audit Costs | G14: =F14*E14 -> 0
C15: MIS/HR Data Processing | G15: =F15*E15 -> 0
C16: Temporary Staffing | G16: =F16*E16 -> 0
G17: =F17*E17 -> 0
C18: Add additional line items as needed | G18: =F18*E18 -> 0
G19: =F19*E19 -> 0
G20: =F20*E20 -> 0
G21: =F21*E21 -> 0
G22: =F22*E22 -> 0
G23: =F23*E23 -> 0
G24: =F24*E24 -> 0
G25: =F25*E25 -> 0
G26: =F26*E26 -> 0
G27: =F27*E27 -> 0
G28: =F28*E28 -> 0
A29: TOTAL | G29: =SUM(G12:G24:G25:G28) -> 0
A32: Proposers must allocate their costs to appropriate ACS and non-ACS programs using a fair and accurate allocation methodology. The allocation methodology must have a rational basis, e.g., square footage for space costs, full time equivalent (FTE) or working hours for personnel costs. The method must be developed in accordance with generally acceptable accounting principles and applicable laws, regulations, and policies. List any other cost allocation methodology not noted above.

Sheet FACILITIES
A2: ADMINISTRATION FOR CHILDREN'S SERVICES
A3: ANNUAL ACS BUDGET TEMPLATE
A4: FACILITIES
A6: AGENCY NAME: | B6: =COVER!D7 -> 0
A7: AGENCY ADDRESS: | B7: =COVER!D8 -> 0
A8: BUDGET PERIOD: | B8: July 1, 2027 to June 30, 2028 (12 Months)
A11: PROGRAM ADDRESS:
A15: FLOOR AND ROOM NUMBER:
A18: COST PER SQ. FT.: | C18: =C25 -> 0
A23: FACILITIES COSTS | C23: Budgeted Amount | D23: EQUATIONS (ONLY APPLICABLE TO ACS FUNDING)
A24: SQ. FT. USED FOR ACTIVITY
A25: COST PER SQ. FT.
A26: TOTAL COST OF SQUARE FOOTAGE | C26: =C24*C25 -> 0 | D26: =[(Cost per Sq. Ft.) x (Sq. Ft. for ACS Activity)] This is your Rental Cost.
A27: UTILITIES COST | D27: = (Electricity) + (Gas)
A28: DOE School Opening Fees, if applicable
A29: TOTAL - RENT & UTILITIES | C29: =C26+C27+C28 -> 0 | D29: =(Utility Cost) + (Rental Cost) + (DOE School Opening Fees, if applicable)
A31: Agencies must allocate their costs to appropriate ACS and non-ACS programs using a fair and accurate allocation methodology. The allocation methodology must have a rational basis, e.g., square footage for space costs, full time equivalent (FTE) or working hours for personnel costs. The method must be developed in accordance with generally acceptable accounting principles and applicable laws, regulations, and policies.

Sheet OTHER OTPS
A2: ADMINISTRATION FOR CHILDREN'S SERVICES
A3: ANNUAL ACS BUDGET TEMPLATE
A4: OTHER OTPS - EXPENSES NECESSARY TO OPERATE
A7: AGENCY NAME: | B7: =COVER!D7 -> 0
A8: ADDRESS: | B8: =COVER!D8 -> 0
A9: BUDGET PERIOD: | B9: July 1, 2027 to June 30, 2028 (12 Months)
A12: CATEGORY | B12: TOTAL BUDGETED AMOUNT
A13: GENERAL
A14: Office Supplies
A15: Staff Transportation
A16: Staff Training - Conference Expense/Staff Education
A17: Postage
A18: Recruitment and Advertising
A19: Liability, Property, and Other Insurance
A20: Vehicle Insurance
A21: Vehicle Operations and Maintenance
A22: Printing
A23: Client Supplies and Activities
A24: Cell Phones
A26: Add additional line items as needed
A39: TOTAL - GENERAL | B39: =+SUM(B14:B38) -> 0
A41: EQUIPMENT
A64: TOTAL - EQUIPMENT | B64: =+SUM(B41:B63) -> 0
A65: Grandtotal | B65: =+B64+B39 -> 0
A69: Please refer to the instructions for non-allowable expense items in the fiscal manual
A70: ACS FISCAL MANUAL
A72: * For general info regarding equipment click here for the Cost Manual and see Capital Expenditures and Equipment
A73: Proposers must allocate their costs to appropriate ACS and non-ACS programs using a fair and accurate allocation methodology. The allocation methodology must have a rational basis, e.g., square footage for space costs, full time equivalent (FTE) or working hours for personnel costs. The method must be developed in accordance with generally acceptable accounting principles and applicable laws, regulations, and policies.
